BEGIN:VCALENDAR
CALSCALE:GREGORIAN
METHOD:PUBLISH
VERSION:2.0
PRODID:-//iCalWriter OpenSource Project//iCalWriter 0.8.1//EN
BEGIN:VEVENT
DTSTAMP:20260421T222418Z
UID:17768102580tI9@www.koenigswinter.de
DTSTART:20220407T190000
DTEND;VALUE=DATE:20220407
SUMMARY:Kleine Kinder und digitale Welten / www.familie-bad-honnef.de
DESCRIPTION:Unser Kooperationspartner: Das Bündnis für Familie in Bad Honnef, bietet verschiedene Veranstaltungen zur Medienkompetenz an. Einen Überblick zu Inhalten, Terminen und Informationen zur Anmeldung finden Sie hier.
 
 
 
LOCATION:Digital 
		53604 Bad Honnef
	
CATEGORIES:Bildung/ Vorträge und Diskussionen,Medienprävention
URL:https://www.koenigswinter.de/de/aktionen-veranstaltungen/event/54284,1081/kleine-kinder-und-digitale-welten---wwwfamilie-bad-honnefde-07-04-2022.html
ATTACH:https://www.koenigswinter.de/de/datei/anzeigen/id/54285,1081/kleinekinderwelten.jpg
END:VEVENT
END:VCALENDAR
